BEGIN:VCALENDAR
VERSION:2.0
PRODID:-//Hemus - ECPv6.15.0.1//NONSGML v1.0//EN
CALSCALE:GREGORIAN
METHOD:PUBLISH
X-WR-CALNAME:Hemus
X-ORIGINAL-URL:https://hemus.displaynone.nl
X-WR-CALDESC:Evenementen voor Hemus
REFRESH-INTERVAL;VALUE=DURATION:PT1H
X-Robots-Tag:noindex
X-PUBLISHED-TTL:PT1H
BEGIN:VTIMEZONE
TZID:Europe/Amsterdam
BEGIN:DAYLIGHT
TZOFFSETFROM:+0100
TZOFFSETTO:+0200
TZNAME:CEST
DTSTART:20250330T010000
END:DAYLIGHT
BEGIN:STANDARD
TZOFFSETFROM:+0200
TZOFFSETTO:+0100
TZNAME:CET
DTSTART:20251026T010000
END:STANDARD
END:VTIMEZONE
BEGIN:VEVENT
DTSTART;TZID=Europe/Amsterdam:20250918T190000
DTEND;TZID=Europe/Amsterdam:20250918T213000
DTSTAMP:20260424T114146
CREATED:20250826T075101Z
LAST-MODIFIED:20250826T075101Z
UID:1956-1758222000-1758231000@hemus.displaynone.nl
SUMMARY:Masterclass NDICEA voor bio akkerbouwers
DESCRIPTION:Stikstof is bepalend voor de potentiële opbrengst van je gewassen. NDICEA geeft inzicht in de beschikbaarheid van stikstof voor het gewas gedurende het groeiseizoen. Daarnaast laat het programma zien hoeveel stikstof na de oogst nog in de bodem aanwezig is. \nAgrifirm en demonstratiebedrijf Hemus BV slaan de handen ineen en organiseren een gezamenlijke masterclass voor biologische telers. Op donderdag 18 september 2025 geeft Geert-Jan van den Burgt een demonstratie over NDICEA en kunnen deelnemers ervaren hoe het is om met NDICEA te werken. Ook werken we één of twee percelen van deelnemers uit en is er ruimte om aan de slag te gaan met je eigen bedrijf. \nProgramma \n\n19:00 uur Inloop op Wulpweg 6\, 3897 LW Zeewolde\n19:30 uur Start masterclass\n21:00 uur Eigen bedrijf uitwerken in NDICEA en nabespreken tijdens borrel\n22:00 uur Afsluiting\n\nHeb je interesse om jouw perceel tijdens de avond uit te laten werken? Geef dit dan aan bij je aanmelding. We selecteren één bedrijf en vragen daarvan de teeltregistratie op. Voor de masterclass werken we vervolgens een beginscenario uit op basis van deze gegevens. \nAanmelden: Aanmelden Bio Bodem dag \nMeenemen tijdens de Masterclass \n\nLaptop\nTeeltregistratie om zelf met NDICEA aan de slag te gaan. Na aanmelding ontvangen je een Excel document om de teeltregistratie goed uit werken voor het eigen bedrijf.\n\nHemus is een demonstratiebedrijf akkerbouw\, met ondersteuning van de EU \n 
URL:https://hemus.displaynone.nl/agenda/masterclass-ndicea-voor-bio-akkerbouwers/
LOCATION:Hemus\, Wulpweg 6\, Zeewolde\, 3897 LW\, Netherlands
ATTACH;FMTTYPE=image/webp:https://hemus.displaynone.nl/wp-content/uploads/2025/08/DSC_0176.webp
END:VEVENT
BEGIN:VEVENT
DTSTART;TZID=Europe/Amsterdam:20250905T103000
DTEND;TZID=Europe/Amsterdam:20250905T163000
DTSTAMP:20260424T114146
CREATED:20250826T085040Z
LAST-MODIFIED:20250826T085040Z
UID:1960-1757068200-1757089800@hemus.displaynone.nl
SUMMARY:Open dag demobedrijven ERF BV en Hemus BV
DESCRIPTION:Strokenteelt\, agroforestry en zonnepanelen in de praktijk \nBen je benieuwd hoe strokenteelt en agroforestry er in praktijk uitzien? Of hoe wij gewassen telen tussen zonnepanelen? Of nieuwsgierig naar de opbrengsten? Kom dan op vrijdag 5 september naar de open dag van ERF BV en Hemus BV in Zeewolde\, demonstratiebedrijven akkerbouw. \nWe laten zien hoe wij dit aanpakken op 70 hectare  biologische landbouwgrond. Ook delen we kennis en resultaten van het onderzoek dat Wageningen University & Research sinds 2016 uitvoert naar gewasopbrengsten\, plaagbestrijding en biodiversiteit. \nWat kun je verwachten? \n\nErvaringstocht langs de percelen.\nPraktijkervaringen en wetenschappelijke resultaten over toepassing gewasdiversiteit.\nMogelijkheid om vragen over je eigen bedrijf te stellen. Wij denken graag mee!\n\n  \nPraktisch:\n–  Tussen 10:30 en 16:30 uur\n–  Start: Wulpweg 6\, Zeewolde (ERF BV / Hemus BV)\n–  Neem je eigen fiets of auto mee\n–  Percelen zijn alleen te voet bereikbaar | in totaal circa 1\,5 km lopen. \nVoor wie: agrarisch ondernemers\, maar iedereen met interesse is welkom! Aanmelden graag\, maar hoeft niet. \nAanmelden:  https://www.degroenevonk.nl/aanmelden-demodag?lid=46 \nWees welkom! \n 
URL:https://hemus.displaynone.nl/agenda/open-dag-demobedrijven-erf-bv-en-hemus-bv/
LOCATION:Hemus\, Wulpweg 6\, Zeewolde\, 3897 LW\, Netherlands
ATTACH;FMTTYPE=image/webp:https://hemus.displaynone.nl/wp-content/uploads/2025/08/5-september.webp
END:VEVENT
END:VCALENDAR